BEGIN:VCALENDAR
VERSION:2.0
PRODID:-//Descenso  del Cinca - ECPv6.15.20//NONSGML v1.0//EN
CALSCALE:GREGORIAN
METHOD:PUBLISH
X-WR-CALNAME:Descenso  del Cinca
X-ORIGINAL-URL:https://descensodelcinca.com
X-WR-CALDESC:Eventos para Descenso  del Cinca
REFRESH-INTERVAL;VALUE=DURATION:PT1H
X-Robots-Tag:noindex
X-PUBLISHED-TTL:PT1H
BEGIN:VTIMEZONE
TZID:Europe/Madrid
BEGIN:DAYLIGHT
TZOFFSETFROM:+0100
TZOFFSETTO:+0200
TZNAME:CEST
DTSTART:20250330T010000
END:DAYLIGHT
BEGIN:STANDARD
TZOFFSETFROM:+0200
TZOFFSETTO:+0100
TZNAME:CET
DTSTART:20251026T010000
END:STANDARD
BEGIN:DAYLIGHT
TZOFFSETFROM:+0100
TZOFFSETTO:+0200
TZNAME:CEST
DTSTART:20260329T010000
END:DAYLIGHT
BEGIN:STANDARD
TZOFFSETFROM:+0200
TZOFFSETTO:+0100
TZNAME:CET
DTSTART:20261025T010000
END:STANDARD
BEGIN:DAYLIGHT
TZOFFSETFROM:+0100
TZOFFSETTO:+0200
TZNAME:CEST
DTSTART:20270328T010000
END:DAYLIGHT
BEGIN:STANDARD
TZOFFSETFROM:+0200
TZOFFSETTO:+0100
TZNAME:CET
DTSTART:20271031T010000
END:STANDARD
END:VTIMEZONE
BEGIN:VEVENT
DTSTART;TZID=Europe/Madrid:20260626T203000
DTEND;TZID=Europe/Madrid:20260626T213000
DTSTAMP:20260424T182109
CREATED:20230503T064918Z
LAST-MODIFIED:20260411T143343Z
UID:13547-1782505800-1782509400@descensodelcinca.com
SUMMARY:Día del Voluntariado.
DESCRIPTION:Jornada de reconocimiento a todo el colectivo y asociaciones que colaboran con voluntariado para el desarrollo de la prueba deportiva. \nSalón de actos de la Comarca del Bajo Cinca\, jueves 25 de junio\, 20\,30 h.
URL:https://descensodelcinca.com/evento/dia-del-voluntariado/
LOCATION:Comarca del Bajo Cinca\, Calle Manuel Alabart\, 23\, Fraga\, Huesca\, 22520\, España
CATEGORIES:Actividad institucional
ATTACH;FMTTYPE=image/jpeg:https://descensodelcinca.com/wp-content/uploads/VOLUNTARIADO.jpg
ORGANIZER;CN="Comarca del Bajo Cinca":MAILTO:deportes@bajocinca.es
END:VEVENT
END:VCALENDAR