BEGIN:VCALENDAR
VERSION:2.0
PRODID:-//Descenso  del Cinca - ECPv6.15.20//NONSGML v1.0//EN
CALSCALE:GREGORIAN
METHOD:PUBLISH
X-ORIGINAL-URL:https://descensodelcinca.com
X-WR-CALDESC:Eventos para Descenso  del Cinca
REFRESH-INTERVAL;VALUE=DURATION:PT1H
X-Robots-Tag:noindex
X-PUBLISHED-TTL:PT1H
BEGIN:VTIMEZONE
TZID:Europe/Madrid
BEGIN:DAYLIGHT
TZOFFSETFROM:+0100
TZOFFSETTO:+0200
TZNAME:CEST
DTSTART:20250330T010000
END:DAYLIGHT
BEGIN:STANDARD
TZOFFSETFROM:+0200
TZOFFSETTO:+0100
TZNAME:CET
DTSTART:20251026T010000
END:STANDARD
BEGIN:DAYLIGHT
TZOFFSETFROM:+0100
TZOFFSETTO:+0200
TZNAME:CEST
DTSTART:20260329T010000
END:DAYLIGHT
BEGIN:STANDARD
TZOFFSETFROM:+0200
TZOFFSETTO:+0100
TZNAME:CET
DTSTART:20261025T010000
END:STANDARD
BEGIN:DAYLIGHT
TZOFFSETFROM:+0100
TZOFFSETTO:+0200
TZNAME:CEST
DTSTART:20270328T010000
END:DAYLIGHT
BEGIN:STANDARD
TZOFFSETFROM:+0200
TZOFFSETTO:+0100
TZNAME:CET
DTSTART:20271031T010000
END:STANDARD
END:VTIMEZONE
BEGIN:VEVENT
DTSTART;TZID=Europe/Madrid:20260628T093000
DTEND;TZID=Europe/Madrid:20260628T140000
DTSTAMP:20260424T145251
CREATED:20250412T060037Z
LAST-MODIFIED:20260411T143510Z
UID:13535-1782639000-1782655200@descensodelcinca.com
SUMMARY:XXVII Descenso del Cinca.
DESCRIPTION:Descenso en piragua del tramo final del Río Cinca oscense antes de llegar al ebro con modalidad competitiva y federada regulada con jueces y toma de tiempos y también modalidad popular y turística para el público en general.  \n«Declarado Actividad de Interés Turistico de Aragón»
URL:https://descensodelcinca.com/evento/xxvi-descenso-internacional-del-cinca/
LOCATION:Bajo Cinca\, España
CATEGORIES:Competiciones
ATTACH;FMTTYPE=image/jpeg:https://descensodelcinca.com/wp-content/uploads/COMPETICION-2.jpg
ORGANIZER;CN="Comarca del Bajo Cinca":MAILTO:deportes@bajocinca.es
END:VEVENT
END:VCALENDAR